View In:
ArcGIS JavaScript
ArcGIS Online Map Viewer
ArcGIS Earth
ArcMap
View Footprint In:
ArcGIS Online Map Viewer
Service Description: MNJACK18_SID_COMBINED_AW_3INCH
Name: MNJACK18_SID_COMBINED_AW_3INCH
Description:
Single Fused Map Cache: false
Extent:
XMin: 99496.5
YMin: 100839
XMax: 263625
YMax: 235143
Spatial Reference: PROJCS["NAD83_MINNESOTA_HPGN_Lambert_Conformal_Conic",GEOGCS["GCS_NAD83_MINNESOTA_HPGN",DATUM["D_NAD83_High_Accuracy_Reference_Network",SPHEROID["GRS_1980",6378137.0,298.257222101]],PRIMEM["Greenwich",0.0],UNIT["Degree",0.0174532925199433]],PROJECTION["Lambert_Conformal_Conic"],PARAMETER["false_easting",499999.999998],PARAMETER["false_northing",100000.0001308333],PARAMETER["central_meridian",-93.95],PARAMETER["standard_parallel_1",43.5666666700008],PARAMETER["standard_parallel_2",43.8],PARAMETER["scale_factor",1.0],PARAMETER["latitude_of_origin",43.5],UNIT["Foot_US",0.3048006096012192]]
Initial Extent:
XMin: 99496.5
YMin: 100839
XMax: 263625
YMax: 235143
Spatial Reference: PROJCS["NAD83_MINNESOTA_HPGN_Lambert_Conformal_Conic",GEOGCS["GCS_NAD83_MINNESOTA_HPGN",DATUM["D_NAD83_High_Accuracy_Reference_Network",SPHEROID["GRS_1980",6378137.0,298.257222101]],PRIMEM["Greenwich",0.0],UNIT["Degree",0.0174532925199433]],PROJECTION["Lambert_Conformal_Conic"],PARAMETER["false_easting",499999.999998],PARAMETER["false_northing",100000.0001308333],PARAMETER["central_meridian",-93.95],PARAMETER["standard_parallel_1",43.5666666700008],PARAMETER["standard_parallel_2",43.8],PARAMETER["scale_factor",1.0],PARAMETER["latitude_of_origin",43.5],UNIT["Foot_US",0.3048006096012192]]
Full Extent:
XMin: 99496.5
YMin: 100839
XMax: 263625
YMax: 235143
Spatial Reference: PROJCS["NAD83_MINNESOTA_HPGN_Lambert_Conformal_Conic",GEOGCS["GCS_NAD83_MINNESOTA_HPGN",DATUM["D_NAD83_High_Accuracy_Reference_Network",SPHEROID["GRS_1980",6378137.0,298.257222101]],PRIMEM["Greenwich",0.0],UNIT["Degree",0.0174532925199433]],PROJECTION["Lambert_Conformal_Conic"],PARAMETER["false_easting",499999.999998],PARAMETER["false_northing",100000.0001308333],PARAMETER["central_meridian",-93.95],PARAMETER["standard_parallel_1",43.5666666700008],PARAMETER["standard_parallel_2",43.8],PARAMETER["scale_factor",1.0],PARAMETER["latitude_of_origin",43.5],UNIT["Foot_US",0.3048006096012192]]
Pixel Size X: 0.25
Pixel Size Y: 0.25
Band Count: 3
Pixel Type: U8
RasterFunction Infos: {"rasterFunctionInfos": [{
"name": "None",
"description": "",
"help": ""
}]}
Mensuration Capabilities: Basic
Has Histograms: true
Has Colormap: false
Has Multi Dimensions : false
Rendering Rule:
Min Scale: 0
Max Scale: 0
Copyright Text:
Service Data Type: esriImageServiceDataTypeRGB
Min Values: 41, 22, 10
Max Values: 255, 255, 255
Mean Values: 142.07070707071, 122.88757949869, 100.79704451927
Standard Deviation Values: 33.279252629519, 33.607412589115, 34.460647848673
Object ID Field:
Fields:
None
Default Mosaic Method: Center
Allowed Mosaic Methods:
SortField:
SortValue: null
Mosaic Operator: First
Default Compression Quality: 75
Default Resampling Method: Bilinear
Max Record Count: null
Max Image Height: 4100
Max Image Width: 15000
Max Download Image Count: null
Max Mosaic Image Count: null
Allow Raster Function: true
Allow Copy: null
Allow Analysis: null
Allow Compute TiePoints: false
Supports Statistics: false
Supports Advanced Queries: false
Use StandardizedQueries: true
Raster Type Infos:
Name: Raster Dataset
Description: Supports all ArcGIS Raster Datasets
Help:
Has Raster Attribute Table: false
Edit Fields Info: null
Ownership Based AccessControl For Rasters: null
Child Resources:
Info
Histograms
Key Properties
Legend
Raster Function Infos
Supported Operations:
Export Image
Identify
Measure
Compute Histograms
Compute Statistics Histograms
Get Samples
Compute Class Statistics
Query Boundary
Compute Pixel Location
Compute Angles
Validate
Project