{
 "currentVersion": 10.91,
 "serviceDescription": "MNJACK21SID",
 "name": "MNJACK21SID",
 "description": "",
 "extent": {
  "xmin": 100320,
  "ymin": 101112,
  "xmax": 264000,
  "ymax": 230472,
  "spatialReference": {
   "wkt": "PROJCS[\"NAD83_MINNESOTA_HPGN_Lambert_Conformal_Conic\",GEOGCS[\"GCS_NAD83_MINNESOTA_HPGN\",DATUM[\"D_North_American_1983_HARN\",SPHEROID[\"GRS_1980\",6378137.0,298.257222101]],PRIMEM[\"Greenwich\",0.0],UNIT[\"Degree\",0.0174532925199433]],PROJECTION[\"Lambert_Conformal_Conic\"],PARAMETER[\"false_easting\",499999.999998],PARAMETER[\"false_northing\",100000.0001308333],PARAMETER[\"central_meridian\",-93.95],PARAMETER[\"standard_parallel_1\",43.5666666700008],PARAMETER[\"standard_parallel_2\",43.8],PARAMETER[\"scale_factor\",1.0],PARAMETER[\"latitude_of_origin\",43.5],UNIT[\"Foot_US\",0.3048006096012192]]"
  }
 },
 "initialExtent": {
  "xmin": 100320,
  "ymin": 101112,
  "xmax": 264000,
  "ymax": 230472,
  "spatialReference": {
   "wkt": "PROJCS[\"NAD83_MINNESOTA_HPGN_Lambert_Conformal_Conic\",GEOGCS[\"GCS_NAD83_MINNESOTA_HPGN\",DATUM[\"D_North_American_1983_HARN\",SPHEROID[\"GRS_1980\",6378137.0,298.257222101]],PRIMEM[\"Greenwich\",0.0],UNIT[\"Degree\",0.0174532925199433]],PROJECTION[\"Lambert_Conformal_Conic\"],PARAMETER[\"false_easting\",499999.999998],PARAMETER[\"false_northing\",100000.0001308333],PARAMETER[\"central_meridian\",-93.95],PARAMETER[\"standard_parallel_1\",43.5666666700008],PARAMETER[\"standard_parallel_2\",43.8],PARAMETER[\"scale_factor\",1.0],PARAMETER[\"latitude_of_origin\",43.5],UNIT[\"Foot_US\",0.3048006096012192]]"
  }
 },
 "fullExtent": {
  "xmin": 100320,
  "ymin": 101112,
  "xmax": 264000,
  "ymax": 230472,
  "spatialReference": {
   "wkt": "PROJCS[\"NAD83_MINNESOTA_HPGN_Lambert_Conformal_Conic\",GEOGCS[\"GCS_NAD83_MINNESOTA_HPGN\",DATUM[\"D_North_American_1983_HARN\",SPHEROID[\"GRS_1980\",6378137.0,298.257222101]],PRIMEM[\"Greenwich\",0.0],UNIT[\"Degree\",0.0174532925199433]],PROJECTION[\"Lambert_Conformal_Conic\"],PARAMETER[\"false_easting\",499999.999998],PARAMETER[\"false_northing\",100000.0001308333],PARAMETER[\"central_meridian\",-93.95],PARAMETER[\"standard_parallel_1\",43.5666666700008],PARAMETER[\"standard_parallel_2\",43.8],PARAMETER[\"scale_factor\",1.0],PARAMETER[\"latitude_of_origin\",43.5],UNIT[\"Foot_US\",0.3048006096012192]]"
  }
 },
 "hasMultidimensions": false,
 "pixelSizeX": 0.25,
 "pixelSizeY": 0.25,
 "datasetFormat": "MrSID",
 "uncompressedSize": 1016334950400,
 "blockWidth": 1024,
 "blockHeight": 128,
 "compressionType": "Wavelet (MG3)",
 "bandNames": [
  "Band_1",
  "Band_2",
  "Band_3"
 ],
 "allowCopy": true,
 "allowAnalysis": true,
 "bandCount": 3,
 "pixelType": "U8",
 "minPixelSize": 0,
 "maxPixelSize": 0,
 "copyrightText": "",
 "serviceDataType": "esriImageServiceDataTypeProcessed",
 "serviceSourceType": "esriImageServiceSourceTypeDataset",
 "minValues": [
  0,
  0,
  0
 ],
 "maxValues": [
  255,
  255,
  255
 ],
 "meanValues": [
  156.5263671875,
  134.065234375,
  108.982421875
 ],
 "stdvValues": [
  32.452857757776,
  30.958112488511,
  27.64118734578
 ],
 "objectIdField": "",
 "fields": [],
 "capabilities": "Image,Metadata,Mensuration",
 "defaultMosaicMethod": "Center",
 "allowedMosaicMethods": "",
 "sortField": "",
 "sortValue": null,
 "sortAscending": true,
 "mosaicOperator": "First",
 "defaultCompressionQuality": 75,
 "defaultResamplingMethod": "Bilinear",
 "maxImageHeight": 4100,
 "maxImageWidth": 15000,
 "allowRasterFunction": true,
 "rasterFunctionInfos": [
  {
   "name": "None",
   "description": "",
   "help": ""
  }
 ],
 "rasterTypeInfos": [
  {
   "name": "Raster Dataset",
   "description": "Supports all ArcGIS Raster Datasets",
   "help": ""
  }
 ],
 "mensurationCapabilities": "Basic",
 "hasHistograms": true,
 "hasColormap": false,
 "hasRasterAttributeTable": false,
 "minScale": 0,
 "maxScale": 0,
 "exportTilesAllowed": false,
 "supportsStatistics": false,
 "supportsAdvancedQueries": false,
 "editFieldsInfo": null,
 "ownershipBasedAccessControlForRasters": null,
 "allowComputeTiePoints": false,
 "useStandardizedQueries": true,
 "advancedQueryCapabilities": {
  "useStandardizedQueries": true,
  "supportsStatistics": false,
  "supportsOrderBy": false,
  "supportsDistinct": false,
  "supportsPagination": false
 },
 "spatialReference": {
  "wkt": "PROJCS[\"NAD83_MINNESOTA_HPGN_Lambert_Conformal_Conic\",GEOGCS[\"GCS_NAD83_MINNESOTA_HPGN\",DATUM[\"D_North_American_1983_HARN\",SPHEROID[\"GRS_1980\",6378137.0,298.257222101]],PRIMEM[\"Greenwich\",0.0],UNIT[\"Degree\",0.0174532925199433]],PROJECTION[\"Lambert_Conformal_Conic\"],PARAMETER[\"false_easting\",499999.999998],PARAMETER[\"false_northing\",100000.0001308333],PARAMETER[\"central_meridian\",-93.95],PARAMETER[\"standard_parallel_1\",43.5666666700008],PARAMETER[\"standard_parallel_2\",43.8],PARAMETER[\"scale_factor\",1.0],PARAMETER[\"latitude_of_origin\",43.5],UNIT[\"Foot_US\",0.3048006096012192]]"
 }
}
