{
 "currentVersion": 10.91,
 "serviceDescription": "MNJACK18_SID_6INCH",
 "name": "MNJACK18_SID_6INCH",
 "description": "",
 "extent": {
  "xmin": 99496.5,
  "ymin": 100839,
  "xmax": 263625,
  "ymax": 235143,
  "spatialReference": {
   "wkt": "PROJCS[\"NAD83_MINNESOTA_HPGN_Lambert_Conformal_Conic\",GEOGCS[\"GCS_NAD83_MINNESOTA_HPGN\",DATUM[\"D_NAD83_High_Accuracy_Reference_Network\",SPHEROID[\"GRS_1980\",6378137.0,298.257222101]],PRIMEM[\"Greenwich\",0.0],UNIT[\"Degree\",0.0174532925199433]],PROJECTION[\"Lambert_Conformal_Conic\"],PARAMETER[\"false_easting\",499999.999998],PARAMETER[\"false_northing\",100000.0001308333],PARAMETER[\"central_meridian\",-93.95],PARAMETER[\"standard_parallel_1\",43.5666666700008],PARAMETER[\"standard_parallel_2\",43.8],PARAMETER[\"scale_factor\",1.0],PARAMETER[\"latitude_of_origin\",43.5],UNIT[\"Foot_US\",0.3048006096012192]]"
  }
 },
 "initialExtent": {
  "xmin": 99496.5,
  "ymin": 100839,
  "xmax": 263625,
  "ymax": 235143,
  "spatialReference": {
   "wkt": "PROJCS[\"NAD83_MINNESOTA_HPGN_Lambert_Conformal_Conic\",GEOGCS[\"GCS_NAD83_MINNESOTA_HPGN\",DATUM[\"D_NAD83_High_Accuracy_Reference_Network\",SPHEROID[\"GRS_1980\",6378137.0,298.257222101]],PRIMEM[\"Greenwich\",0.0],UNIT[\"Degree\",0.0174532925199433]],PROJECTION[\"Lambert_Conformal_Conic\"],PARAMETER[\"false_easting\",499999.999998],PARAMETER[\"false_northing\",100000.0001308333],PARAMETER[\"central_meridian\",-93.95],PARAMETER[\"standard_parallel_1\",43.5666666700008],PARAMETER[\"standard_parallel_2\",43.8],PARAMETER[\"scale_factor\",1.0],PARAMETER[\"latitude_of_origin\",43.5],UNIT[\"Foot_US\",0.3048006096012192]]"
  }
 },
 "fullExtent": {
  "xmin": 99496.5,
  "ymin": 100839,
  "xmax": 263625,
  "ymax": 235143,
  "spatialReference": {
   "wkt": "PROJCS[\"NAD83_MINNESOTA_HPGN_Lambert_Conformal_Conic\",GEOGCS[\"GCS_NAD83_MINNESOTA_HPGN\",DATUM[\"D_NAD83_High_Accuracy_Reference_Network\",SPHEROID[\"GRS_1980\",6378137.0,298.257222101]],PRIMEM[\"Greenwich\",0.0],UNIT[\"Degree\",0.0174532925199433]],PROJECTION[\"Lambert_Conformal_Conic\"],PARAMETER[\"false_easting\",499999.999998],PARAMETER[\"false_northing\",100000.0001308333],PARAMETER[\"central_meridian\",-93.95],PARAMETER[\"standard_parallel_1\",43.5666666700008],PARAMETER[\"standard_parallel_2\",43.8],PARAMETER[\"scale_factor\",1.0],PARAMETER[\"latitude_of_origin\",43.5],UNIT[\"Foot_US\",0.3048006096012192]]"
  }
 },
 "pixelSizeX": 0.5,
 "pixelSizeY": 0.5,
 "bandCount": 3,
 "pixelType": "U8",
 "minPixelSize": 0,
 "maxPixelSize": 0,
 "copyrightText": "",
 "serviceDataType": "esriImageServiceDataTypeRGB",
 "minValues": [
  40,
  21,
  11
 ],
 "maxValues": [
  255,
  255,
  255
 ],
 "meanValues": [
  141.94668911336,
  122.84698840254,
  100.79947624392
 ],
 "stdvValues": [
  33.333282285026,
  33.631241256066,
  34.445055491847
 ],
 "objectIdField": "",
 "fields": [],
 "capabilities": "Image,Metadata,Mensuration",
 "defaultMosaicMethod": "Center",
 "allowedMosaicMethods": "",
 "sortField": "",
 "sortValue": null,
 "sortAscending": true,
 "mosaicOperator": "First",
 "defaultCompressionQuality": 75,
 "defaultResamplingMethod": "Nearest",
 "maxImageHeight": 4100,
 "maxImageWidth": 15000,
 "allowRasterFunction": true,
 "rasterFunctionInfos": [
  {
   "name": "None",
   "description": "",
   "help": ""
  }
 ],
 "rasterTypeInfos": [
  {
   "name": "Raster Dataset",
   "description": "Supports all ArcGIS Raster Datasets",
   "help": ""
  }
 ],
 "mensurationCapabilities": "Basic",
 "hasHistograms": true,
 "hasColormap": false,
 "hasRasterAttributeTable": false,
 "minScale": 0,
 "maxScale": 0,
 "exportTilesAllowed": false,
 "hasMultidimensions": false,
 "supportsStatistics": false,
 "supportsAdvancedQueries": false,
 "editFieldsInfo": null,
 "ownershipBasedAccessControlForRasters": null,
 "allowComputeTiePoints": false,
 "useStandardizedQueries": true,
 "advancedQueryCapabilities": {
  "useStandardizedQueries": true,
  "supportsStatistics": false,
  "supportsOrderBy": false,
  "supportsDistinct": false,
  "supportsPagination": false
 },
 "spatialReference": {
  "wkt": "PROJCS[\"NAD83_MINNESOTA_HPGN_Lambert_Conformal_Conic\",GEOGCS[\"GCS_NAD83_MINNESOTA_HPGN\",DATUM[\"D_NAD83_High_Accuracy_Reference_Network\",SPHEROID[\"GRS_1980\",6378137.0,298.257222101]],PRIMEM[\"Greenwich\",0.0],UNIT[\"Degree\",0.0174532925199433]],PROJECTION[\"Lambert_Conformal_Conic\"],PARAMETER[\"false_easting\",499999.999998],PARAMETER[\"false_northing\",100000.0001308333],PARAMETER[\"central_meridian\",-93.95],PARAMETER[\"standard_parallel_1\",43.5666666700008],PARAMETER[\"standard_parallel_2\",43.8],PARAMETER[\"scale_factor\",1.0],PARAMETER[\"latitude_of_origin\",43.5],UNIT[\"Foot_US\",0.3048006096012192]]"
 }
}
